BEGIN:VCALENDAR
VERSION:2.0
PRODID:-//Ingeneous - ECPv6.6.4.2//NONSGML v1.0//EN
CALSCALE:GREGORIAN
METHOD:PUBLISH
X-WR-CALNAME:Ingeneous
X-ORIGINAL-URL:https://myingeneous.com
X-WR-CALDESC:Events for Ingeneous
REFRESH-INTERVAL;VALUE=DURATION:PT1H
X-Robots-Tag:noindex
X-PUBLISHED-TTL:PT1H
BEGIN:VTIMEZONE
TZID:Pacific/Auckland
BEGIN:STANDARD
TZOFFSETFROM:+1300
TZOFFSETTO:+1200
TZNAME:NZST
DTSTART:20220402T140000
END:STANDARD
BEGIN:DAYLIGHT
TZOFFSETFROM:+1200
TZOFFSETTO:+1300
TZNAME:NZDT
DTSTART:20220924T140000
END:DAYLIGHT
END:VTIMEZONE
BEGIN:VEVENT
DTSTART;VALUE=DATE:20220221
DTEND;VALUE=DATE:20220222
DTSTAMP:20260425T022446
CREATED:20211214T224400Z
LAST-MODIFIED:20211221T013059Z
UID:1841-1645401600-1645487999@myingeneous.com
SUMMARY:Life Pharmacy Commercial Bay
DESCRIPTION:We are excited to be hosting an Ingeneous event where Dr. Libby Lindsay will share the interesting world of genetics. DNA holds the blueprint to how your body responds to the world around it – discover exactly what your body needs to thrive. The evening will include an introduction to the science of genetics and key systems – inflammation\, detoxification and vitamin D pathway. We invite you to come and hear how bespoke recommendations based on your genetics can make you happier and healthier.
URL:https://myingeneous.com/event/life-pharmacy-commercial-bay/
LOCATION:Life Pharmacy Commercial Bay\, Shop 12 Level 1 Commercial Bay\, 7 Queen Street\, Auckland\, 1010\, New Zealand
ATTACH;FMTTYPE=image/jpeg:https://myingeneous.com/wp-content/uploads/2021/11/into-to-genetics.jpg
END:VEVENT
END:VCALENDAR